BEGIN:VCALENDAR
VERSION:2.0
PRODID:-//Kulvio Event Calendar//kulvio.de//
CALSCALE:GREGORIAN
METHOD:PUBLISH
BEGIN:VEVENT
SUMMARY:Leseabend Pippi Langstrumpf für Grundschüler
DTSTART:20260424T160000Z
DTEND:20260424T170000Z
DTSTAMP:20260419T135818Z
UID:kulvio-event-1340@kulvio.de
CATEGORIES:Lesung,Kindertheater
CREATED:20260416T163359Z
DESCRIPTION:Die Lesekapelle Geinsheim veranstaltet einen Leseabend rund um
  Astrid Lindgrens Pippi Langstrumpf. Das Angebot richtet sich an Grundsch
 üler der ersten bis vierten Klasse und bietet einen unterhaltsamen Einsti
 eg in die Welt der Bücher. Der Abend beginnt um 18 Uhr\, eine Anmeldung i
 st erforderlich.
GEO:49.879635;8.394655
LAST-MODIFIED:20260416T164144Z
LOCATION:St. Ulrichs Lesekapelle Geinsheim\, Oppenheimer Straße 19\, 6546
 8\, Trebur
STATUS:CONFIRMED
URL:https://kulvio.de/event/1340
END:VEVENT
END:VCALENDAR
