BEGIN:VCALENDAR
VERSION:2.0
PRODID:-//Kulvio Event Calendar//kulvio.de//
CALSCALE:GREGORIAN
METHOD:PUBLISH
BEGIN:VEVENT
SUMMARY:Kinderflohmarkt in Gräfenhausen
DTSTART:20260426T080000Z
DTEND:20260426T100000Z
DTSTAMP:20260419T133058Z
UID:kulvio-event-1436@kulvio.de
CATEGORIES:Flohmarkt,Spielfest
CREATED:20260416T164926Z
DESCRIPTION:Der Förderverein der Schloss-Schule Gräfenhausen veranstalte
 t einen Kinderflohmarkt im Bürgerhaus Gräfenhausen. Kinder und Familien 
 können gebrauchtes Spielzeug\, Bücher\, Kleidung und mehr kaufen und ver
 kaufen. Der Eintritt für Besucher ist frei\, die Standgebühren liegen zw
 ischen 10 und 15 Euro. Die Erlöse kommen dem Förderverein der Grundschul
 e zugute und unterstützen Projekte für die Schulkinder. Das Bürgerhaus 
 Gräfenhausen an der Schlossgasse 15 bietet mit seinem Mehrzwecksaal und d
 er Bühne den passenden Rahmen. Die Veranstaltung findet von 10 bis 12 Uhr
  statt. Kinderflohmärkte sind eine beliebte Gelegenheit für Familien\, S
 pielzeug zu tauschen.
GEO:49.92906;8.602083
LAST-MODIFIED:20260416T165100Z
LOCATION:Bürgerhaus Gräfenhausen\, Schlossgasse 15\, 64331\, Weiterstadt
STATUS:CONFIRMED
URL:https://kulvio.de/event/1436
END:VEVENT
END:VCALENDAR
