BEGIN:VCALENDAR
VERSION:2.0
PRODID:-//Kulvio Event Calendar//kulvio.de//
CALSCALE:GREGORIAN
METHOD:PUBLISH
BEGIN:VEVENT
SUMMARY:Kleines Streicherfestival: Klenke Quartett Weimar
DTSTART:20260625T183000Z
DTEND:20260625T193000Z
DTSTAMP:20260419T140350Z
UID:kulvio-event-1499@kulvio.de
CATEGORIES:Konzert
CREATED:20260416T171634Z
DESCRIPTION:Am zweiten Abend des Kleinen Streicherfestivals 2026 gastiert 
 das Klenke Quartett Weimar im Kreuzgang des Klosters Seligenstadt. Das Ens
 emble zählt zu den etablierten Streichquartetten der deutschen Kammermusi
 kszene. Der Kreuzgang des historischen Benediktinerklosters bietet eine be
 sondere Atmosphäre für Kammermusik unter freiem Himmel. Bei schlechtem W
 etter wird das Konzert in die Einhardbasilika verlegt.
GEO:50.042292;8.978514
LAST-MODIFIED:20260416T171755Z
LOCATION:Kloster Seligenstadt\, Klosterhof 2\, 63500\, Seligenstadt
STATUS:CONFIRMED
URL:https://kulvio.de/event/1499
END:VEVENT
END:VCALENDAR
