BEGIN:VCALENDAR
VERSION:2.0
PRODID:-//Kulvio Event Calendar//kulvio.de//
CALSCALE:GREGORIAN
METHOD:PUBLISH
BEGIN:VEVENT
SUMMARY:Junger Jazz! - Kulturförderpreisträger im Konzert
DTSTART:20260522T180000Z
DTEND:20260522T190000Z
DTSTAMP:20260419T135105Z
UID:kulvio-event-1546@kulvio.de
CATEGORIES:Konzert
CREATED:20260416T171634Z
DESCRIPTION:Das Kunstforum Seligenstadt lädt zum Konzert 'Junger Jazz!' i
 n den Jakobsaal ein. Auftreten werden junge Musikerinnen und Musiker\, die
  als Kulturförderpreisträger ausgezeichnet wurden. Das Format bietet jun
 gen Talenten aus der Jazzszene eine Bühne in Seligenstadt. Der Jakobsaal 
 im St. Josefshaus ist die feste Konzertstätte des Kunstforums.
GEO:50.042449;8.974465
LAST-MODIFIED:20260416T171755Z
LOCATION:Jakobsaal im St. Josefshaus\, Jakobstraße 7\, 63500\, Seligensta
 dt
STATUS:CONFIRMED
URL:https://kulvio.de/event/1546
END:VEVENT
END:VCALENDAR
