BEGIN:VCALENDAR
VERSION:2.0
PRODID:-//Kulvio Event Calendar//kulvio.de//
CALSCALE:GREGORIAN
METHOD:PUBLISH
BEGIN:VEVENT
SUMMARY:Monsieur Pompadour
DTSTART:20260618T180000Z
DTEND:20260618T190000Z
DTSTAMP:20260419T125454Z
UID:kulvio-event-1547@kulvio.de
CATEGORIES:Konzert
CREATED:20260416T171634Z
DESCRIPTION:Das Kunstforum Seligenstadt präsentiert das Ensemble Monsieur
  Pompadour im Jakobsaal. Der Konzertabend findet im Rahmen der regulären 
 Konzertreihe des Kunstforums statt. Der Jakobsaal im St. Josefshaus bietet
  eine passende Akustik für das Programm. Der Eintritt beträgt 25 Euro.
GEO:50.042449;8.974465
LAST-MODIFIED:20260416T171755Z
LOCATION:Jakobsaal im St. Josefshaus\, Jakobstraße 7\, 63500\, Seligensta
 dt
STATUS:CONFIRMED
URL:https://kulvio.de/event/1547
END:VEVENT
END:VCALENDAR
