BEGIN:VCALENDAR
VERSION:2.0
PRODID:-//Kulvio Event Calendar//kulvio.de//
CALSCALE:GREGORIAN
METHOD:PUBLISH
BEGIN:VEVENT
SUMMARY:1. Adventskonzert am Rathausinnenhof
DTSTART:20261129T160000Z
DTEND:20261129T170000Z
DTSTAMP:20260419T131211Z
UID:kulvio-event-1549@kulvio.de
CATEGORIES:Konzert
CREATED:20260416T171634Z
DESCRIPTION:Der Heimatbund Seligenstadt lädt zum ersten Adventskonzert 20
 26 in den Rathausinnenhof der Einhardstadt ein. Die Reihe der Adventskonze
 rte gehört zu den festen Programmpunkten der Seligenstädter Weihnachtsze
 it. Im Innenhof des historischen Rathauses entsteht eine winterlich-stimmu
 ngsvolle Atmosphäre für besinnliche Musik. Veranstalter ist der Heimatbu
 nd Seligenstadt.
GEO:50.044051;8.97565
LAST-MODIFIED:20260416T171755Z
LOCATION:Rathaus Seligenstadt\, Marktplatz 1\, 63500\, Seligenstadt
STATUS:CONFIRMED
URL:https://kulvio.de/event/1549
END:VEVENT
END:VCALENDAR
