BEGIN:VCALENDAR
VERSION:2.0
PRODID:-//Kulvio Event Calendar//kulvio.de//
CALSCALE:GREGORIAN
METHOD:PUBLISH
BEGIN:VEVENT
SUMMARY:2. Adventskonzert am Rathausinnenhof
DTSTART:20261206T160000Z
DTEND:20261206T170000Z
DTSTAMP:20260419T134552Z
UID:kulvio-event-1550@kulvio.de
CATEGORIES:Konzert
CREATED:20260416T171634Z
DESCRIPTION:Das zweite Adventskonzert des Heimatbunds Seligenstadt findet 
 am zweiten Advent 2026 im Rathausinnenhof statt. Die Konzertreihe ist Teil
  der adventlichen Veranstaltungen in der Einhardstadt. Der Innenhof des hi
 storischen Rathauses bildet die winterliche Kulisse für das Konzert. Orga
 nisiert wird der Abend vom Heimatbund Seligenstadt.
GEO:50.044051;8.97565
LAST-MODIFIED:20260416T171755Z
LOCATION:Rathaus Seligenstadt\, Marktplatz 1\, 63500\, Seligenstadt
STATUS:CONFIRMED
URL:https://kulvio.de/event/1550
END:VEVENT
END:VCALENDAR
