BEGIN:VCALENDAR
VERSION:2.0
PRODID:-//Kulvio Event Calendar//kulvio.de//
CALSCALE:GREGORIAN
METHOD:PUBLISH
BEGIN:VEVENT
SUMMARY:Grillfest am 1. Mai an der Kubig
DTSTART:20260501T090000Z
DTEND:20260501T100000Z
DTSTAMP:20260419T123006Z
UID:kulvio-event-1561@kulvio.de
CATEGORIES:Nachbarschaft,Open-Air,Tradition
CREATED:20260416T171828Z
DESCRIPTION:Am Tag der Arbeit wird in Roßdorf am Grillplatz an der Kubig 
 gemeinsam gegrillt und gefeiert. Ab 11 Uhr gibt es Gegrilltes und Getränk
 e unter freiem Himmel in geselliger Runde. Das Grillfest ist ein beliebter
  Treffpunkt für Familien und Nachbarn aus Roßdorf und Umgebung und steht
  allen Interessierten offen.
GEO:49.863811;8.741591
LAST-MODIFIED:20260416T172755Z
LOCATION:Grillplatz an der Kubig\, Industriestraße 30\, 64380\, Roßdorf
STATUS:CONFIRMED
URL:https://kulvio.de/event/1561
END:VEVENT
END:VCALENDAR
