BEGIN:VCALENDAR
VERSION:2.0
PRODID:-//Kulvio Event Calendar//kulvio.de//
CALSCALE:GREGORIAN
METHOD:PUBLISH
BEGIN:VEVENT
SUMMARY:REMODE - The Music of Depeche Mode
DTSTART:20260605T180000Z
DTEND:20260605T190000Z
DTSTAMP:20260419T132447Z
UID:kulvio-event-1620@kulvio.de
CATEGORIES:Konzert,Open-Air
CREATED:20260416T173416Z
DESCRIPTION:Die Tribute-Band REMODE spielt auf dem Weingut Joachim Flick i
 n Flörsheim-Wicker die zeitlosen Hits von Depeche Mode in neuem Gewand. D
 as Open-Air-Konzert verbindet energetische Gitarrenarbeit mit dynamischem 
 Schlagzeugspiel und speziellen Lichteffekten. Die Band verleiht den Klassi
 kern der britischen Synthie-Pop-Legenden eine neue Dimension. Einlass ist 
 ab 18 Uhr\, Konzertbeginn um 20 Uhr auf dem Gelände des VDP-Weinguts.
GEO:50.025603;8.39693
LAST-MODIFIED:20260416T173533Z
LOCATION:Weingut Joachim Flick\, Straßenmühle\, 65439\, Flörsheim am Ma
 in
STATUS:CONFIRMED
URL:https://kulvio.de/event/1620
END:VEVENT
END:VCALENDAR
