BEGIN:VCALENDAR
VERSION:2.0
PRODID:-//Kulvio Event Calendar//kulvio.de//
CALSCALE:GREGORIAN
METHOD:PUBLISH
BEGIN:VEVENT
SUMMARY:Die Erinnerung ist launisch
DTSTART:20260420T180000Z
DTEND:20260420T190000Z
DTSTAMP:20260419T233428Z
UID:kulvio-event-2206@kulvio.de
CATEGORIES:Theater,Show
CREATED:20260417T130814Z
DESCRIPTION:Die Erinnerung ist launisch ist eine Produktion in der Kakadu 
 Bar des Staatstheaters Mainz. Die intime Spielstätte bietet Raum für kle
 inere Theaterformate\, die das Publikum in unmittelbarer Nähe erleben kan
 n. Die Veranstaltung beginnt um 20 Uhr und findet in der atmosphärischen 
 Bar am Gutenbergplatz statt. In der Kakadu Bar werden regelmäßig Stücke
  gezeigt\, die von der besonderen Nähe zwischen Publikum und Bühne profi
 tieren. Das Format verbindet Theater mit dem Ambiente der Bar und richtet 
 sich an ein erwachsenes Publikum\, das Lust auf Theaterformen jenseits der
  großen Bühne hat.
GEO:49.999468;8.271102
LAST-MODIFIED:20260417T130947Z
LOCATION:Staatstheater Mainz\, Gutenbergplatz 7\, 55116\, Mainz
STATUS:CONFIRMED
URL:https://kulvio.de/event/2206
END:VEVENT
END:VCALENDAR
