BEGIN:VCALENDAR
VERSION:2.0
PRODID:-//Kulvio Event Calendar//kulvio.de//
CALSCALE:GREGORIAN
METHOD:PUBLISH
BEGIN:VEVENT
SUMMARY:Der Mistkäfer
DTSTART:20260421T090000Z
DTEND:20260421T100000Z
DTSTAMP:20260419T235657Z
UID:kulvio-event-2208@kulvio.de
CATEGORIES:Konzert,Kindertheater,Familienausflug
CREATED:20260417T130814Z
DESCRIPTION:Das Kinderkonzert Der Mistkäfer wird vom Philharmonischen Sta
 atsorchester Mainz im Orchestersaal aufgeführt und verbindet eine kindger
 echte Erzählung mit orchestraler Begleitung. Die Geschichte nach Hans Chr
 istian Andersens Märchen begleitet einen kleinen Mistkäfer auf seiner Re
 ise durch die Welt und zeigt\, dass auch die Kleinsten Großes erleben kö
 nnen. Die Vorstellungen finden vormittags statt und richten sich an Kinder
  ab etwa vier Jahren und Familien. Das Konzertformat ermöglicht jungen Zu
 hörern einen spielerischen Zugang zur Welt der klassischen Musik. Die Ver
 anstaltung dauert etwa eine Stunde und eignet sich besonders für Kinderg
 ärten und Schulklassen.
GEO:49.999468;8.271102
LAST-MODIFIED:20260417T130947Z
LOCATION:Staatstheater Mainz\, Gutenbergplatz 7\, 55116\, Mainz
STATUS:CONFIRMED
URL:https://kulvio.de/event/2208
END:VEVENT
END:VCALENDAR
