BEGIN:VCALENDAR
VERSION:2.0
PRODID:-//Kulvio Event Calendar//kulvio.de//
CALSCALE:GREGORIAN
METHOD:PUBLISH
BEGIN:VEVENT
SUMMARY:Kannawoniwasein! Manchmal muss man einfach verduften (UA)
DTSTART:20260424T090000Z
DTEND:20260424T100500Z
DTSTAMP:20260419T232817Z
UID:kulvio-event-2215@kulvio.de
CATEGORIES:Kindertheater,Theater
CREATED:20260417T130814Z
DESCRIPTION:Martin Musers Kinderbuch Kannawoniwasein! Manchmal muss man ei
 nfach verduften wird am Staatstheater Mainz als Uraufführung in der Spiel
 stätte U17 gezeigt. Die Geschichte handelt von Finn\, der auf eigene Faus
 t ein Abenteuer erlebt\, nachdem seine Reise eine unerwartete Wendung nimm
 t. Zusammen mit der mutigen Jola macht er sich auf den Weg und lernt\, das
 s wahre Freiheit manchmal Mut erfordert. Die Inszenierung dauert etwa eine
  Stunde und fünf Minuten und eignet sich für Kinder ab sechs Jahren und 
 Familien. Die Vorstellungen finden vormittags statt und richten sich beson
 ders an Schulklassen.
GEO:49.999468;8.271102
LAST-MODIFIED:20260417T130947Z
LOCATION:Staatstheater Mainz\, Gutenbergplatz 7\, 55116\, Mainz
STATUS:CONFIRMED
URL:https://kulvio.de/event/2215
END:VEVENT
END:VCALENDAR
