BEGIN:VCALENDAR
VERSION:2.0
PRODID:-//Kulvio Event Calendar//kulvio.de//
CALSCALE:GREGORIAN
METHOD:PUBLISH
BEGIN:VEVENT
SUMMARY:Der Kaiser von Atlantis
DTSTART:20260424T164500Z
DTEND:20260424T183000Z
DTSTAMP:20260419T233422Z
UID:kulvio-event-2217@kulvio.de
CATEGORIES:Theater,Konzert
CREATED:20260417T130814Z
DESCRIPTION:Viktor Ullmanns Einakter Der Kaiser von Atlantis entstand 1943
  im Konzentrationslager Theresienstadt und gilt als eines der wichtigsten 
 Werke gegen Tyrannei und Populismus. Kaiser Overall erklärt den Krieg all
 er gegen alle\, doch der Tod verweigert seinen Dienst und niemand kann meh
 r sterben. Die Oper verbindet klassische Musik mit Kabarett-Elementen im S
 til von Kurt Weill. Am Staatstheater Mainz wird das etwa sechzigminütige 
 Werk ohne Pause im Kleinen Haus aufgeführt\, unter der Regie von Ana Cué
 llar Velasco und mit Brett Carter als Kaiser.
GEO:49.999468;8.271102
LAST-MODIFIED:20260417T130947Z
LOCATION:Staatstheater Mainz\, Gutenbergplatz 7\, 55116\, Mainz
STATUS:CONFIRMED
URL:https://kulvio.de/event/2217
END:VEVENT
END:VCALENDAR
