BEGIN:VCALENDAR
VERSION:2.0
PRODID:-//Kulvio Event Calendar//kulvio.de//
CALSCALE:GREGORIAN
METHOD:PUBLISH
BEGIN:VEVENT
SUMMARY:Die unendliche Geschichte
DTSTART:20260425T173000Z
DTEND:20260425T195500Z
DTSTAMP:20260419T232544Z
UID:kulvio-event-2218@kulvio.de
CATEGORIES:Kindertheater,Theater
CREATED:20260417T130814Z
DESCRIPTION:Michael Endes Klassiker Die unendliche Geschichte kommt in ein
 er Bühnenfassung von John von Düffel auf die Bühne des Kleinen Hauses a
 m Staatstheater Mainz. Der Junge Bastian Balthasar Bux entdeckt in einem A
 ntiquariat ein geheimnisvolles Buch und taucht ein in das Zauberreich Phan
 tásien\, das vom Nichts bedroht wird. Carl Grübel spielt Bastian\, David
  T. Meyer den Helden Atréju in der Inszenierung von Inda Buschmann. Die A
 ufführung dauert etwa zwei Stunden und zehn Minuten mit Pause und eignet 
 sich für Zuschauer ab zehn Jahren. Das Stück ist eines der beliebtesten 
 Kinderbücher der deutschen Literatur.
GEO:49.999468;8.271102
LAST-MODIFIED:20260417T130947Z
LOCATION:Staatstheater Mainz\, Gutenbergplatz 7\, 55116\, Mainz
STATUS:CONFIRMED
URL:https://kulvio.de/event/2218
END:VEVENT
END:VCALENDAR
