BEGIN:VCALENDAR
VERSION:2.0
PRODID:-//Kulvio Event Calendar//kulvio.de//
CALSCALE:GREGORIAN
METHOD:PUBLISH
BEGIN:VEVENT
SUMMARY:Mopps (UA)
DTSTART:20260426T083000Z
DTEND:20260426T093000Z
DTSTAMP:20260419T232817Z
UID:kulvio-event-2220@kulvio.de
CATEGORIES:Tanz,Kindertheater,Familienausflug
CREATED:20260417T130814Z
DESCRIPTION:Mopps ist eine Uraufführung der Tanzsparte tanzmainz und rich
 tet sich an ein sehr junges Publikum ab etwa zwei Jahren. Das Tanzstück w
 ird in der Spielstätte an der Weißliliengasse 8 in Mainz aufgeführt und
  dauert etwa eine Stunde. Die Produktion verbindet Tanz mit spielerischen 
 Elementen und ist besonders für Kleinkinder und ihre Familien geeignet. t
 anzmainz entwickelt regelmäßig Formate für die Jüngsten und ermöglich
 t damit bereits in frühem Alter einen Zugang zur Welt des Tanzes. Die Vor
 stellungen finden an Wochenenden vormittags statt.
GEO:49.996422;8.271544
LAST-MODIFIED:20260417T130947Z
LOCATION:Staatstheater Mainz — Spielstätte Weißliliengasse\, Weißlili
 engasse 8\, 55116\, Mainz
STATUS:CONFIRMED
URL:https://kulvio.de/event/2220
END:VEVENT
END:VCALENDAR
