BEGIN:VCALENDAR
VERSION:2.0
PRODID:-//Kulvio Event Calendar//kulvio.de//
CALSCALE:GREGORIAN
METHOD:PUBLISH
BEGIN:VEVENT
SUMMARY:3. Konzert für junge Leute
DTSTART:20260429T080000Z
DTEND:20260429T090000Z
DTSTAMP:20260419T232208Z
UID:kulvio-event-2227@kulvio.de
CATEGORIES:Konzert,Familienausflug
CREATED:20260417T130814Z
DESCRIPTION:Das 3. Konzert für junge Leute des Philharmonischen Staatsorc
 hesters Mainz findet im Großen Haus statt und richtet sich speziell an ei
 n jugendliches Publikum. Das Orchester präsentiert ein abwechslungsreiche
 s Programm\, das klassische Musik auf zugängliche Weise vermittelt und zu
 m Zuhören und Entdecken einlädt. Die Konzerte für junge Leute sind Teil
  des musikpädagogischen Programms des Staatstheaters und werden von Mitgl
 iedern des Orchesters moderiert. Die Veranstaltung ist besonders für Fami
 lien und Schulklassen geeignet und bietet einen niedrigschwelligen Zugang 
 zur sinfonischen Musik in entspannter Atmosphäre.
GEO:49.999468;8.271102
LAST-MODIFIED:20260417T130947Z
LOCATION:Staatstheater Mainz\, Gutenbergplatz 7\, 55116\, Mainz
STATUS:CONFIRMED
URL:https://kulvio.de/event/2227
END:VEVENT
END:VCALENDAR
