BEGIN:VCALENDAR
VERSION:2.0
PRODID:-//Kulvio Event Calendar//kulvio.de//
CALSCALE:GREGORIAN
METHOD:PUBLISH
BEGIN:VEVENT
SUMMARY:La Cenerentola (Aschenputtel)
DTSTART:20260429T173000Z
DTEND:20260429T202000Z
DTSTAMP:20260419T232528Z
UID:kulvio-event-2228@kulvio.de
CATEGORIES:Theater,Konzert
CREATED:20260417T130814Z
DESCRIPTION:Gioachino Rossinis Oper La Cenerentola erzählt die Geschichte
  von Aschenputtel in einer humorvollen und musikalisch sprühenden Fassung
 . Anders als im Märchen verzichtet Rossini auf übernatürliche Elemente 
 und setzt stattdessen auf Verwechslungen und komödiantische Verwicklungen
 . Der Prinz Don Ramiro verliebt sich in die bescheidene Angelina\, währen
 d ihre Stiefschwestern leer ausgehen. Die Inszenierung am Staatstheater Ma
 inz findet im Großen Haus statt und wird vom Philharmonischen Staatsorche
 ster begleitet. Die Aufführung dauert rund zwei Stunden und fünfzig Minu
 ten inklusive einer Pause und verbindet virtuose Koloraturen mit spritzige
 r Komik.
GEO:49.999468;8.271102
LAST-MODIFIED:20260417T130947Z
LOCATION:Staatstheater Mainz\, Gutenbergplatz 7\, 55116\, Mainz
STATUS:CONFIRMED
URL:https://kulvio.de/event/2228
END:VEVENT
END:VCALENDAR
