BEGIN:VCALENDAR
VERSION:2.0
PRODID:-//Kulvio Event Calendar//kulvio.de//
CALSCALE:GREGORIAN
METHOD:PUBLISH
BEGIN:VEVENT
SUMMARY:Bezahlt wird nicht!
DTSTART:20260430T173000Z
DTEND:20260430T195000Z
DTSTAMP:20260419T232548Z
UID:kulvio-event-2230@kulvio.de
CATEGORIES:Theater,Comedy
CREATED:20260417T130814Z
DESCRIPTION:Dario Fos und Franca Rames sozialkritische Farce Bezahlt wird 
 nicht! aus dem Jahr 1974 handelt von Antonia\, die angesichts explodierend
 er Lebensmittelpreise einen Supermarkt plündert. Zusammen mit ihrer Freun
 din Margherita versucht sie\, die Beute vor ihren ahnungslosen Ehemännern
  zu verstecken\, während die Polizei Hausdurchsuchungen durchführt. Die 
 Komödie des Nobelpreisträgers Fo verbindet Slapstick mit scharfer Gesell
 schaftskritik und hat bis heute nichts von ihrer Aktualität verloren. And
 rea Quirbach spielt Antonia in der Inszenierung von Leonardo Raab am Klein
 en Haus des Staatstheaters. Die Vorstellung dauert rund zwei Stunden und z
 wanzig Minuten mit Pause.
GEO:49.999468;8.271102
LAST-MODIFIED:20260417T130947Z
LOCATION:Staatstheater Mainz\, Gutenbergplatz 7\, 55116\, Mainz
STATUS:CONFIRMED
URL:https://kulvio.de/event/2230
END:VEVENT
END:VCALENDAR
