BEGIN:VCALENDAR
VERSION:2.0
PRODID:-//Kulvio Event Calendar//kulvio.de//
CALSCALE:GREGORIAN
METHOD:PUBLISH
BEGIN:VEVENT
SUMMARY:Sonntagsmatinee im Mai
DTSTART:20260503T093000Z
DTEND:20260503T103000Z
DTSTAMP:20260419T232522Z
UID:kulvio-event-2235@kulvio.de
CATEGORIES:Konzert,Show
CREATED:20260417T130814Z
DESCRIPTION:Die Sonntagsmatinee im Mai bietet dem Publikum am Vormittag ei
 n kammermusikalisches Programm im Foyer des Großen Hauses am Staatstheate
 r Mainz. Mitglieder des Philharmonischen Staatsorchesters präsentieren au
 sgewählte Werke in entspannter Atmosphäre. Die Matinee beginnt um 11:30 
 Uhr und bietet einen stimmungsvollen Start in den Sonntag. Die Reihe der S
 onntagsmatineen ist ein fester Bestandteil des Konzertprogramms und gibt d
 em Publikum die Möglichkeit\, Orchestermitglieder in kleiner Besetzung un
 d persönlichem Rahmen zu erleben. Der Eintritt ist in der Regel frei\, ei
 ne Reservierung wird empfohlen.
GEO:49.999468;8.271102
LAST-MODIFIED:20260417T130947Z
LOCATION:Staatstheater Mainz\, Gutenbergplatz 7\, 55116\, Mainz
STATUS:CONFIRMED
URL:https://kulvio.de/event/2235
END:VEVENT
END:VCALENDAR
