BEGIN:VCALENDAR
VERSION:2.0
PRODID:-//Kulvio Event Calendar//kulvio.de//
CALSCALE:GREGORIAN
METHOD:PUBLISH
BEGIN:VEVENT
SUMMARY:Physik im Theater
DTSTART:20260504T170000Z
DTEND:20260504T180000Z
DTSTAMP:20260419T232626Z
UID:kulvio-event-2236@kulvio.de
CATEGORIES:Vortrag,Show,Wissenschaft
CREATED:20260417T130814Z
DESCRIPTION:Die Reihe Physik im Theater verbindet Wissenschaft und Theater
  am Staatstheater Mainz. Im Kleinen Haus werden die Geheimnisse der Atomke
 rne auf verständliche und unterhaltsame Weise erklärt. Die Veranstaltung
  beginnt um 19 Uhr und richtet sich an ein breites Publikum\, das sich fü
 r Naturwissenschaften interessiert. Physik im Theater ist eine Kooperation
  des Staatstheaters mit wissenschaftlichen Einrichtungen und hat sich als 
 populäres Format zur Wissenschaftsvermittlung etabliert. Das Format macht
  komplexe physikalische Zusammenhänge durch anschauliche Präsentationen 
 im Theaterumfeld zugänglich und verbindet Unterhaltung mit Bildung.
GEO:49.999468;8.271102
LAST-MODIFIED:20260417T130947Z
LOCATION:Staatstheater Mainz\, Gutenbergplatz 7\, 55116\, Mainz
STATUS:CONFIRMED
URL:https://kulvio.de/event/2236
END:VEVENT
END:VCALENDAR
