BEGIN:VCALENDAR
VERSION:2.0
PRODID:-//Kulvio Event Calendar//kulvio.de//
CALSCALE:GREGORIAN
METHOD:PUBLISH
BEGIN:VEVENT
SUMMARY:Meister Floh
DTSTART:20260504T180000Z
DTEND:20260504T191000Z
DTSTAMP:20260419T232549Z
UID:kulvio-event-2237@kulvio.de
CATEGORIES:Theater,Show
CREATED:20260417T130814Z
DESCRIPTION:E.T.A. Hoffmanns fantastische Erzählung Meister Floh wird am 
 Staatstheater Mainz in der Spielstätte U17 aufgeführt. Die Geschichte de
 s jungen Peregrinus Tyß\, der in den Besitz einer magischen Lupe gelangt 
 und damit die wahren Gedanken der Menschen lesen kann\, verbindet romantis
 che Phantastik mit gesellschaftlicher Satire. Hoffmann schrieb die Erzähl
 ung 1822 als eine seiner letzten Arbeiten und verarbeitete darin auch sein
 e eigenen Erfahrungen mit der preußischen Justiz. Die Inszenierung dauert
  etwa eine Stunde und zehn Minuten und eignet sich für jüngeres und erwa
 chsenes Publikum. Das Stück gehört zum festen Repertoire der aktuellen S
 pielzeit am Staatstheater Mainz.
GEO:49.999468;8.271102
LAST-MODIFIED:20260417T130947Z
LOCATION:Staatstheater Mainz\, Gutenbergplatz 7\, 55116\, Mainz
STATUS:CONFIRMED
URL:https://kulvio.de/event/2237
END:VEVENT
END:VCALENDAR
