BEGIN:VCALENDAR
VERSION:2.0
PRODID:-//Kulvio Event Calendar//kulvio.de//
CALSCALE:GREGORIAN
METHOD:PUBLISH
BEGIN:VEVENT
SUMMARY:Katze mit Hut
DTSTART:20260510T140000Z
DTEND:20260510T150000Z
DTSTAMP:20260419T235656Z
UID:kulvio-event-2243@kulvio.de
CATEGORIES:Kindertheater,Theater
CREATED:20260417T130814Z
DESCRIPTION:Katze mit Hut von Simon und Desi Ruge ist ein Kindertheaterst
 ück\, das am Staatstheater Mainz in der Spielstätte U17 aufgeführt wird
 . Die Geschichte handelt von einer klugen Katze\, die mit Witz und Charme 
 verschiedene Herausforderungen meistert. Die Inszenierung richtet sich an 
 ein junges Publikum ab etwa vier Jahren und dauert rund eine Stunde. Die V
 orstellungen finden vormittags und nachmittags statt und eignen sich beson
 ders für Kindergärten und Familien. Das Stück gehört zum festen Repert
 oire des Kinder- und Jugendprogramms der laufenden Spielzeit am Staatsthea
 ter Mainz.
GEO:49.999468;8.271102
LAST-MODIFIED:20260417T130947Z
LOCATION:Staatstheater Mainz\, Gutenbergplatz 7\, 55116\, Mainz
STATUS:CONFIRMED
URL:https://kulvio.de/event/2243
END:VEVENT
END:VCALENDAR
