BEGIN:VCALENDAR
VERSION:2.0
PRODID:-//Kulvio Event Calendar//kulvio.de//
CALSCALE:GREGORIAN
METHOD:PUBLISH
BEGIN:VEVENT
SUMMARY:Sophia\, der Tod und ich
DTSTART:20260510T160000Z
DTEND:20260510T180000Z
DTSTAMP:20260419T232043Z
UID:kulvio-event-2245@kulvio.de
CATEGORIES:Theater,Comedy
CREATED:20260417T130814Z
DESCRIPTION:Die Bühnenfassung von Thees Uhlmanns Roman Sophia\, der Tod u
 nd ich erzählt von einem Mann\, der erfährt\, dass er nur noch drei Minu
 ten zu leben hat\, als der Tod vor seiner Tür steht. Ausgerechnet in dies
 em Moment taucht seine Ex-Freundin Sophia auf\, und die drei begeben sich 
 auf einen tragikomischen Roadtrip durch Bars und Motels. Die Produktion im
  Kleinen Haus des Staatstheaters Mainz ist eine Mischung aus Roadmovie und
  Hommage an das Leben. Die Vorstellung dauert zwei Stunden ohne Pause.
GEO:49.999468;8.271102
LAST-MODIFIED:20260417T130947Z
LOCATION:Staatstheater Mainz\, Gutenbergplatz 7\, 55116\, Mainz
STATUS:CONFIRMED
URL:https://kulvio.de/event/2245
END:VEVENT
END:VCALENDAR
