BEGIN:VCALENDAR
VERSION:2.0
PRODID:-//Kulvio Event Calendar//kulvio.de//
CALSCALE:GREGORIAN
METHOD:PUBLISH
BEGIN:VEVENT
SUMMARY:Heute Abend: Lola Blau
DTSTART:20260506T180000Z
DTEND:20260506T190000Z
DTSTAMP:20260419T233434Z
UID:kulvio-event-2246@kulvio.de
CATEGORIES:Musical,Theater,Show
CREATED:20260417T130814Z
DESCRIPTION:Georg Kreislers Musical Heute Abend: Lola Blau erzählt die Ge
 schichte einer jungen Sängerin im Wien der dreißiger Jahre\, die von ein
 er Karriere auf der Bühne träumt. Mit dem Einmarsch der Nationalsozialis
 ten wird Lola ins Exil gezwungen und muss sich in einer feindlichen Welt b
 ehaupten. Das intime Einpersonenstück wird in der Kakadu Bar des Staatsth
 eaters Mainz aufgeführt und verbindet Chansons mit einer bewegenden Leben
 sgeschichte. Kreisler schrieb das Werk 1971 als Auseinandersetzung mit der
  Vertreibung jüdischer Künstler. Die Vorstellung beginnt jeweils um 20 U
 hr und bietet einen sehr persönlichen Theaterabend in intimer Atmosphäre
 .
GEO:49.999468;8.271102
LAST-MODIFIED:20260417T130947Z
LOCATION:Staatstheater Mainz\, Gutenbergplatz 7\, 55116\, Mainz
STATUS:CONFIRMED
URL:https://kulvio.de/event/2246
END:VEVENT
END:VCALENDAR
