BEGIN:VCALENDAR
VERSION:2.0
PRODID:-//Kulvio Event Calendar//kulvio.de//
CALSCALE:GREGORIAN
METHOD:PUBLISH
BEGIN:VEVENT
SUMMARY:Picobello\, ahoi!
DTSTART:20260512T080000Z
DTEND:20260512T090000Z
DTSTAMP:20260419T233240Z
UID:kulvio-event-2254@kulvio.de
CATEGORIES:Kindertheater,Familienausflug
CREATED:20260417T130815Z
DESCRIPTION:Picobello\, ahoi! ist ein Musiktheater für die Kleinsten und 
 feiert im Mai 2026 Premiere am Staatstheater Mainz. Die Aufführung findet
  in der Spielstätte an der Weißliliengasse 8 statt und richtet sich an K
 inder ab etwa zwei Jahren. Das Stück verbindet Musik und Theater auf spie
 lerische Weise und bietet den jüngsten Theaterbesuchern einen ersten Zuga
 ng zur Bühnenkunst. Die Spielstätte an der Weißliliengasse ist speziell
  für das Programm der Allerkleinsten eingerichtet und bietet eine geschü
 tzte Atmosphäre. Die Vorstellungen finden vormittags und nachmittags stat
 t und eignen sich besonders für Kindergärten und Familien.
GEO:49.996422;8.271544
LAST-MODIFIED:20260417T130947Z
LOCATION:Staatstheater Mainz — Spielstätte Weißliliengasse\, Weißlili
 engasse 8\, 55116\, Mainz
STATUS:CONFIRMED
URL:https://kulvio.de/event/2254
END:VEVENT
END:VCALENDAR
