BEGIN:VCALENDAR
VERSION:2.0
PRODID:-//Kulvio Event Calendar//kulvio.de//
CALSCALE:GREGORIAN
METHOD:PUBLISH
BEGIN:VEVENT
SUMMARY:8. Sinfoniekonzert
DTSTART:20260508T180000Z
DTEND:20260508T195000Z
DTSTAMP:20260419T235655Z
UID:kulvio-event-2257@kulvio.de
CATEGORIES:Konzert,Show
CREATED:20260417T130815Z
DESCRIPTION:Das 8. Sinfoniekonzert des Philharmonischen Staatsorchesters M
 ainz trägt den Titel Mainzer Komponistinnenporträt und widmet sich Werke
 n von Komponistinnen und Komponisten mit Bezug zur Stadt Mainz. Das Konzer
 t findet im Großen Haus des Staatstheaters statt und beginnt um 20 Uhr. Z
 um Programm gehören sinfonische Werke\, die das Orchester unter der Leitu
 ng von Generalmusikdirektor Hermann Bäumer präsentiert. Die Reihe der Si
 nfoniekonzerte gehört zu den Höhepunkten der Saison des Philharmonischen
  Staatsorchesters. Die Veranstaltung dauert etwa eine Stunde und fünfzig 
 Minuten und richtet sich an alle Freunde der klassischen Musik.
GEO:49.999468;8.271102
LAST-MODIFIED:20260417T130947Z
LOCATION:Staatstheater Mainz\, Gutenbergplatz 7\, 55116\, Mainz
STATUS:CONFIRMED
URL:https://kulvio.de/event/2257
END:VEVENT
END:VCALENDAR
