BEGIN:VCALENDAR
VERSION:2.0
PRODID:-//Kulvio Event Calendar//kulvio.de//
CALSCALE:GREGORIAN
METHOD:PUBLISH
BEGIN:VEVENT
SUMMARY:Kammerkonzert und Gesprächsrunde
DTSTART:20260510T093000Z
DTEND:20260510T103000Z
DTSTAMP:20260419T232817Z
UID:kulvio-event-2260@kulvio.de
CATEGORIES:Konzert,Vortrag
CREATED:20260417T130815Z
DESCRIPTION:Das Kammerkonzert mit Gesprächsrunde verbindet musikalische D
 arbietung mit einem moderierten Gespräch über die aufgeführten Werke. M
 itglieder des Philharmonischen Staatsorchesters Mainz spielen unter dem Ti
 tel Leidenschaft durch die Jahrhunderte ausgewählte Kammermusikstücke au
 s verschiedenen Epochen. Die Veranstaltung findet in der Akademie der Wiss
 enschaften und der Literatur in Mainz statt und beginnt um 11:30 Uhr. Das 
 Format bietet vertiefte Einblicke in die Musik und ihre Entstehungsgeschic
 hte und ermöglicht dem Publikum\, die Werke im Dialog mit den Musikerinne
 n und Musikern kennenzulernen.
GEO:49.999468;8.271102
LAST-MODIFIED:20260417T130947Z
LOCATION:Staatstheater Mainz\, Gutenbergplatz 7\, 55116\, Mainz
STATUS:CONFIRMED
URL:https://kulvio.de/event/2260
END:VEVENT
END:VCALENDAR
