BEGIN:VCALENDAR
VERSION:2.0
PRODID:-//Kulvio Event Calendar//kulvio.de//
CALSCALE:GREGORIAN
METHOD:PUBLISH
BEGIN:VEVENT
SUMMARY:Connemara (UA)
DTSTART:20260512T180000Z
DTEND:20260512T194500Z
DTSTAMP:20260419T232214Z
UID:kulvio-event-2264@kulvio.de
CATEGORIES:Theater,Show
CREATED:20260417T130815Z
DESCRIPTION:Nicolas Mathieus Roman Connemara wird am Staatstheater Mainz a
 ls Uraufführung auf die Bühne gebracht. Die Geschichte spielt in einer f
 ranzösischen Kleinstadt und erzählt von Menschen\, die zwischen den Erwa
 rtungen ihrer Umgebung und ihren eigenen Träumen gefangen sind. Mathieu\,
  der 2018 den Prix Goncourt erhielt\, zeichnet ein Porträt der französis
 chen Provinz zwischen Stillstand und Sehnsucht. Die Inszenierung findet in
  der Spielstätte U17 statt und dauert etwa eine Stunde und fünfundvierzi
 g Minuten. Es handelt sich um eine der letzten Vorstellungen dieser Produk
 tion in der Spielzeit.
GEO:49.999468;8.271102
LAST-MODIFIED:20260417T130947Z
LOCATION:Staatstheater Mainz\, Gutenbergplatz 7\, 55116\, Mainz
STATUS:CONFIRMED
URL:https://kulvio.de/event/2264
END:VEVENT
END:VCALENDAR
