BEGIN:VCALENDAR
VERSION:2.0
PRODID:-//Kulvio Event Calendar//kulvio.de//
CALSCALE:GREGORIAN
METHOD:PUBLISH
BEGIN:VEVENT
SUMMARY:Der Sandmann
DTSTART:20260514T173000Z
DTEND:20260514T183000Z
DTSTAMP:20260419T232536Z
UID:kulvio-event-2268@kulvio.de
CATEGORIES:Theater,Show
CREATED:20260417T130815Z
DESCRIPTION:Der Sandmann ist ein Gothic-Konzert nach E.T.A. Hoffmanns glei
 chnamiger Erzählung und wird im Rahmen des PLUG&PLAY-Theaterfestivals fü
 r junge Regie am Staatstheater Mainz aufgeführt. Hoffmanns Geschichte vom
  Studenten Nathanael\, der von einer traumatischen Kindheitserinnerung ver
 folgt wird\, verbindet Schrecken mit Romantik. Die Inszenierung findet im 
 Kleinen Haus statt und verbindet Hoffmanns düstere Erzählung mit musikal
 ischen Elementen. Das PLUG&PLAY-Festival präsentiert Nachwuchsregisseurin
 nen und -regisseure und bietet frische Perspektiven auf klassische und zei
 tgenössische Stoffe. Die Vorstellung beginnt um 19:30 Uhr.
GEO:49.999468;8.271102
LAST-MODIFIED:20260417T130947Z
LOCATION:Staatstheater Mainz\, Gutenbergplatz 7\, 55116\, Mainz
STATUS:CONFIRMED
URL:https://kulvio.de/event/2268
END:VEVENT
END:VCALENDAR
