BEGIN:VCALENDAR
VERSION:2.0
PRODID:-//Kulvio Event Calendar//kulvio.de//
CALSCALE:GREGORIAN
METHOD:PUBLISH
BEGIN:VEVENT
SUMMARY:Peter und der Wolf
DTSTART:20260517T080000Z
DTEND:20260517T090000Z
DTSTAMP:20260419T232214Z
UID:kulvio-event-2271@kulvio.de
CATEGORIES:Konzert,Kindertheater,Familienausflug
CREATED:20260417T130815Z
DESCRIPTION:Sergej Prokofjews musikalisches Märchen Peter und der Wolf wi
 rd vom Philharmonischen Staatsorchester Mainz im Orchestersaal aufgeführt
 . In dem beliebten Kinderkonzert wird jede Figur der Geschichte durch ein 
 eigenes Instrument verkörpert: Peter durch die Streicher\, der Vogel durc
 h die Flöte\, die Ente durch die Oboe und der Wolf durch die Hörner. So 
 lernen Kinder die verschiedenen Orchesterklänge spielerisch kennen. Die V
 orstellungen finden vormittags statt und eignen sich für Kinder ab etwa v
 ier Jahren. Die Aufführung dauert rund eine Stunde.
GEO:49.999468;8.271102
LAST-MODIFIED:20260417T130947Z
LOCATION:Staatstheater Mainz\, Gutenbergplatz 7\, 55116\, Mainz
STATUS:CONFIRMED
URL:https://kulvio.de/event/2271
END:VEVENT
END:VCALENDAR
