BEGIN:VCALENDAR
VERSION:2.0
PRODID:-//Kulvio Event Calendar//kulvio.de//
CALSCALE:GREGORIAN
METHOD:PUBLISH
BEGIN:VEVENT
SUMMARY:The Addams Family
DTSTART:20260517T160000Z
DTEND:20260517T185000Z
DTSTAMP:20260419T232218Z
UID:kulvio-event-2273@kulvio.de
CATEGORIES:Musical,Theater,Show
CREATED:20260417T130815Z
DESCRIPTION:Das Musical The Addams Family von Marshall Brickman\, Rick Eli
 ce und Andrew Lippa bringt die berühmte Gruselfamilie auf die Bühne des 
 Staatstheaters Mainz. Tochter Wednesday hat sich verliebt und bittet Vater
  Gomez\, das Geheimnis vor Mutter Morticia zu bewahren\, was zu chaotische
 n Verwicklungen führt. In der deutschen Fassung von Anja Hauptmann spiele
 n Michael Kamp als Gomez und Maike Elena Schmidt als Morticia unter der Re
 gie von Christian Brey. Die Aufführung im Großen Haus dauert rund zwei S
 tunden und fünfzig Minuten mit einer Pause.
GEO:49.999468;8.271102
LAST-MODIFIED:20260417T130947Z
LOCATION:Staatstheater Mainz\, Gutenbergplatz 7\, 55116\, Mainz
STATUS:CONFIRMED
URL:https://kulvio.de/event/2273
END:VEVENT
END:VCALENDAR
