BEGIN:VCALENDAR
VERSION:2.0
PRODID:-//Kulvio Event Calendar//kulvio.de//
CALSCALE:GREGORIAN
METHOD:PUBLISH
BEGIN:VEVENT
SUMMARY:Im Mohnfeld (UA)
DTSTART:20260517T160000Z
DTEND:20260517T170000Z
DTSTAMP:20260419T232531Z
UID:kulvio-event-2274@kulvio.de
CATEGORIES:Tanz,Show
CREATED:20260417T130815Z
DESCRIPTION:Die Choreografin Paloma Muñoz präsentiert mit Im Mohnfeld ei
 ne Uraufführung von tanzmainz am Staatstheater Mainz. Das Tanzstück wird
  im Kleinen Haus aufgeführt und gehört zu den Neuproduktionen der Spielz
 eit. tanzmainz\, die Tanzsparte des Staatstheaters\, bringt regelmäßig z
 eitgenössische Choreografien auf die Bühne und arbeitet dabei mit intern
 ationalen Choreografinnen und Choreografen zusammen. Die Aufführung dauer
 t je nach Termin zwischen fünfzig Minuten und knapp zwei Stunden. Das St
 ück ist Teil des regulären Tanzprogramms der Saison und zeigt zeitgenös
 sischen Tanz in der intimen Atmosphäre des Kleinen Hauses.
GEO:49.999468;8.271102
LAST-MODIFIED:20260417T130947Z
LOCATION:Staatstheater Mainz\, Gutenbergplatz 7\, 55116\, Mainz
STATUS:CONFIRMED
URL:https://kulvio.de/event/2274
END:VEVENT
END:VCALENDAR
