BEGIN:VCALENDAR
VERSION:2.0
PRODID:-//Kulvio Event Calendar//kulvio.de//
CALSCALE:GREGORIAN
METHOD:PUBLISH
BEGIN:VEVENT
SUMMARY:Die Zauberflöte
DTSTART:20260518T173000Z
DTEND:20260518T183000Z
DTSTAMP:20260419T232548Z
UID:kulvio-event-2275@kulvio.de
CATEGORIES:Theater,Konzert
CREATED:20260417T130815Z
DESCRIPTION:Wolfgang Amadeus Mozarts Oper Die Zauberflöte gehört zu den 
 meistgespielten Werken des Musiktheaters und verbindet märchenhafte Eleme
 nte mit aufklärerischen Idealen. Prinz Tamino und der Vogelfänger Papage
 no begeben sich auf eine abenteuerliche Reise\, um die entführte Pamina a
 us dem Reich des Sarastro zu befreien. Die Inszenierung am Staatstheater M
 ainz zeigt das Werk im Großen Haus mit dem Philharmonischen Staatsorchest
 er Mainz unter musikalischer Leitung. Berühmte Arien wie die der Königin
  der Nacht gehören zu den Höhepunkten der Partitur. Die Vorstellung daue
 rt etwa zwei Stunden und fünfzig Minuten mit Pause und richtet sich an Pu
 blikum jeden Alters.
GEO:49.999468;8.271102
LAST-MODIFIED:20260417T130947Z
LOCATION:Staatstheater Mainz\, Gutenbergplatz 7\, 55116\, Mainz
STATUS:CONFIRMED
URL:https://kulvio.de/event/2275
END:VEVENT
END:VCALENDAR
