BEGIN:VCALENDAR
VERSION:2.0
PRODID:-//Kulvio Event Calendar//kulvio.de//
CALSCALE:GREGORIAN
METHOD:PUBLISH
BEGIN:VEVENT
SUMMARY:Die Physiker
DTSTART:20260519T180000Z
DTEND:20260519T191000Z
DTSTAMP:20260419T232218Z
UID:kulvio-event-2276@kulvio.de
CATEGORIES:Theater,Show
CREATED:20260417T130815Z
DESCRIPTION:Friedrich Dürrenmatts Tragikomödie Die Physiker spielt in ei
 nem Irrenhaus\, in dem drei Patienten behaupten\, berühmte Physiker zu se
 in. Einer gibt sich als Newton\, ein anderer als Einstein\, der dritte beh
 auptet\, von König Salomo Botschaften zu empfangen. Hinter der grotesken 
 Fassade verbirgt sich ein Thriller über wissenschaftliche Verantwortung u
 nd die Frage\, ob gefährliches Wissen vor der Welt verborgen werden kann.
  Die Inszenierung am Staatstheater Mainz findet in der Spielstätte U17 st
 att und dauert etwa eine Stunde und zehn Minuten ohne Pause. Das Stück ge
 hört zu den wichtigsten Werken des deutschsprachigen Nachkriegstheaters.
GEO:49.999468;8.271102
LAST-MODIFIED:20260417T130947Z
LOCATION:Staatstheater Mainz\, Gutenbergplatz 7\, 55116\, Mainz
STATUS:CONFIRMED
URL:https://kulvio.de/event/2276
END:VEVENT
END:VCALENDAR
