BEGIN:VCALENDAR
VERSION:2.0
PRODID:-//Kulvio Event Calendar//kulvio.de//
CALSCALE:GREGORIAN
METHOD:PUBLISH
BEGIN:VEVENT
SUMMARY:Sky Night (UA)
DTSTART:20260521T083000Z
DTEND:20260521T092500Z
DTSTAMP:20260419T232821Z
UID:kulvio-event-2278@kulvio.de
CATEGORIES:Tanz,Show
CREATED:20260417T130815Z
DESCRIPTION:Joan Clevillés Choreografie Sky Night ist eine Uraufführung 
 von tanzmainz am Staatstheater Mainz. Das Tanzstück wird in der Spielstä
 tte U17 aufgeführt und dauert etwa fünfundfünfzig Minuten. Die Vorstell
 ungen finden vormittags statt und eignen sich auch für ein jüngeres Publ
 ikum. Clevillé\, Mitglied der tanzmainz-Compagnie\, hat das Stück spezie
 ll für die kleine Spielstätte konzipiert. tanzmainz zeigt mit dieser Pro
 duktion zeitgenössischen Tanz in der intimen Atmosphäre der Spielstätte
  U17 am Gutenbergplatz in Mainz und bietet damit auch jungen Zuschauern ei
 nen Zugang zur Tanzkunst.
GEO:49.999468;8.271102
LAST-MODIFIED:20260417T130947Z
LOCATION:Staatstheater Mainz\, Gutenbergplatz 7\, 55116\, Mainz
STATUS:CONFIRMED
URL:https://kulvio.de/event/2278
END:VEVENT
END:VCALENDAR
