BEGIN:VCALENDAR
VERSION:2.0
PRODID:-//Kulvio Event Calendar//kulvio.de//
CALSCALE:GREGORIAN
METHOD:PUBLISH
BEGIN:VEVENT
SUMMARY:Das siebte Kreuz
DTSTART:20260522T173000Z
DTEND:20260522T183000Z
DTSTAMP:20260419T232211Z
UID:kulvio-event-2279@kulvio.de
CATEGORIES:Theater,Show
CREATED:20260417T130815Z
DESCRIPTION:Anna Seghers' Roman Das siebte Kreuz aus dem Jahr 1942 wird am
  Staatstheater Mainz in einer Neuinszenierung von Alina Fluck auf die Büh
 ne des Kleinen Hauses gebracht. Sieben Häftlinge fliehen aus einem Konzen
 trationslager\, der Kommandant lässt sieben Kreuze errichten. Sechs Flüc
 htlinge werden gefasst\, doch ein Kreuz bleibt leer. Georg Heislers Flucht
  führt entlang des Rheins über Mainz bis nach Frankfurt. Seghers\, die s
 elbst aus Mainz stammte\, schrieb den Roman im mexikanischen Exil als Plä
 doyer für Menschlichkeit und Widerstand. Die Premiere findet am 22. Mai 2
 026 statt und verbindet historischen Stoff mit zeitgenössischer Inszenier
 ung.
GEO:49.999468;8.271102
LAST-MODIFIED:20260417T130947Z
LOCATION:Staatstheater Mainz\, Gutenbergplatz 7\, 55116\, Mainz
STATUS:CONFIRMED
URL:https://kulvio.de/event/2279
END:VEVENT
END:VCALENDAR
