BEGIN:VCALENDAR
VERSION:2.0
PRODID:-//Kulvio Event Calendar//kulvio.de//
CALSCALE:GREGORIAN
METHOD:PUBLISH
BEGIN:VEVENT
SUMMARY:Sugar Rush (UA)
DTSTART:20260523T173000Z
DTEND:20260523T183000Z
DTSTAMP:20260419T232535Z
UID:kulvio-event-2280@kulvio.de
CATEGORIES:Tanz,Show
CREATED:20260417T130815Z
DESCRIPTION:Der portugiesische Choreograf Marco da Silva Ferreira kreiert 
 mit Sugar Rush eine Uraufführung für tanzmainz am Staatstheater Mainz. D
 ie Premiere findet am 23. Mai 2026 im Großen Haus statt. Ferreira ist bek
 annt für seine kraftvollen Choreografien\, die Elemente aus Street Dance 
 und zeitgenössischem Tanz miteinander verbinden. Sugar Rush ist die groß
 e Tanzpremiere der Saison und bringt zeitgenössische Choreografie auf die
  Hauptbühne des Theaters. Weitere Vorstellungen folgen im Mai und Juni. D
 as Werk verbindet körperliche Energie mit den künstlerischen Handschrift
 en der internationalen Tanzszene.
GEO:49.999468;8.271102
LAST-MODIFIED:20260417T130947Z
LOCATION:Staatstheater Mainz\, Gutenbergplatz 7\, 55116\, Mainz
STATUS:CONFIRMED
URL:https://kulvio.de/event/2280
END:VEVENT
END:VCALENDAR
