BEGIN:VCALENDAR
VERSION:2.0
PRODID:-//Kulvio Event Calendar//kulvio.de//
CALSCALE:GREGORIAN
METHOD:PUBLISH
BEGIN:VEVENT
SUMMARY:Meisterkurs
DTSTART:20260525T120000Z
DTEND:20260525T143000Z
DTSTAMP:20260419T232208Z
UID:kulvio-event-2283@kulvio.de
CATEGORIES:Workshop,Konzert,Bildungskurs
CREATED:20260417T130815Z
DESCRIPTION:Der öffentliche Meisterkurs am Staatstheater Mainz bietet dem
  Publikum die Möglichkeit\, bei Proben des Philharmonischen Staatsorchest
 ers dabei zu sein und den musikalischen Arbeitsprozess hautnah mitzuerlebe
 n. Die Veranstaltung findet im Kleinen Haus statt und beginnt um 14 Uhr. I
 m Anschluss folgt das Meisterkurskonzert um 18 Uhr\, bei dem die erarbeite
 ten Werke aufgeführt werden. Das Format bietet einen seltenen Einblick in
  die musikalische Arbeit eines professionellen Orchesters und richtet sich
  an Musikinteressierte\, die mehr über die Entstehung einer Konzertauffü
 hrung erfahren möchten.
GEO:49.999468;8.271102
LAST-MODIFIED:20260417T130947Z
LOCATION:Staatstheater Mainz\, Gutenbergplatz 7\, 55116\, Mainz
STATUS:CONFIRMED
URL:https://kulvio.de/event/2283
END:VEVENT
END:VCALENDAR
