BEGIN:VCALENDAR
VERSION:2.0
PRODID:-//Kulvio Event Calendar//kulvio.de//
CALSCALE:GREGORIAN
METHOD:PUBLISH
BEGIN:VEVENT
SUMMARY:Meisterkurskonzert
DTSTART:20260525T160000Z
DTEND:20260525T170000Z
DTSTAMP:20260419T232551Z
UID:kulvio-event-2284@kulvio.de
CATEGORIES:Konzert,Bildungskurs
CREATED:20260417T130815Z
DESCRIPTION:Das Meisterkurskonzert bildet den Abschluss des öffentlichen 
 Meisterkurses am Staatstheater Mainz. Im Kleinen Haus präsentieren die Te
 ilnehmerinnen und Teilnehmer die im Kurs erarbeiteten Werke in einem Konze
 rt. Die Veranstaltung beginnt um 18 Uhr und bietet dem Publikum die Mögli
 chkeit\, die Ergebnisse des Meisterkurses live zu erleben. Im Rahmen des K
 onzerts werden die am Nachmittag geprobten Stücke in voller Länge aufgef
 ührt. Das Konzert eignet sich für Musikliebhaber und alle\, die klassisc
 he Musik hautnah erfahren und den Weg von der Probe zur Aufführung nachvo
 llziehen möchten.
GEO:49.999468;8.271102
LAST-MODIFIED:20260417T130947Z
LOCATION:Staatstheater Mainz\, Gutenbergplatz 7\, 55116\, Mainz
STATUS:CONFIRMED
URL:https://kulvio.de/event/2284
END:VEVENT
END:VCALENDAR
