BEGIN:VCALENDAR
VERSION:2.0
PRODID:-//Kulvio Event Calendar//kulvio.de//
CALSCALE:GREGORIAN
METHOD:PUBLISH
BEGIN:VEVENT
SUMMARY:Friendship never ends (UA)
DTSTART:20260526T080000Z
DTEND:20260526T090000Z
DTSTAMP:20260419T232218Z
UID:kulvio-event-2285@kulvio.de
CATEGORIES:Kindertheater,Theater
CREATED:20260417T130815Z
DESCRIPTION:Friendship never ends von Hannah Frauenrath feiert am Staatsth
 eater Mainz seine Uraufführung in der Spielstätte U17. Die Produktion vo
 n justmainz\, der Kinder- und Jugendsparte des Staatstheaters\, richtet si
 ch an junges Publikum ab zehn Jahren und behandelt das Thema Freundschaft 
 aus einer zeitgenössischen Perspektive. Was bedeutet es\, wenn sich Freun
 dschaften verändern und alte Verbindungen auf die Probe gestellt werden? 
 Die Aufführung dauert etwa eine Stunde und findet vormittags statt\, beso
 nders geeignet für Schulklassen. Die Vorstellungen im Mai und Juni bieten
  Kindern und Jugendlichen einen direkten Zugang zu neuem Theater.
GEO:49.999468;8.271102
LAST-MODIFIED:20260417T130947Z
LOCATION:Staatstheater Mainz\, Gutenbergplatz 7\, 55116\, Mainz
STATUS:CONFIRMED
URL:https://kulvio.de/event/2285
END:VEVENT
END:VCALENDAR
