BEGIN:VCALENDAR
VERSION:2.0
PRODID:-//Kulvio Event Calendar//kulvio.de//
CALSCALE:GREGORIAN
METHOD:PUBLISH
BEGIN:VEVENT
SUMMARY:Sam Hogarth invites Rory Ingham
DTSTART:20260528T180000Z
DTEND:20260528T190000Z
DTSTAMP:20260419T232211Z
UID:kulvio-event-2287@kulvio.de
CATEGORIES:Konzert,Afterwork
CREATED:20260417T130815Z
DESCRIPTION:In der Reihe Sam Hogarth invites lädt der Pianist Sam Hogarth
  den Posaunisten Rory Ingham zu einem Jazzabend in die Kakadu Bar des Staa
 tstheaters Mainz ein. Das intime Konzertformat bringt renommierte Jazzmusi
 ker in den atmosphärischen Rahmen der Theaterbar und bietet dem Publikum 
 die Möglichkeit\, Livemusik aus nächster Nähe zu erleben. Die Kakadu Ba
 r am Gutenbergplatz bietet Platz für ein kleines Publikum und schafft dam
 it eine besondere Nähe zwischen Musikern und Zuhörern. Der Abend beginnt
  um 20 Uhr und richtet sich an Fans von Jazz und improvisierter Musik.
GEO:49.999468;8.271102
LAST-MODIFIED:20260417T130947Z
LOCATION:Staatstheater Mainz\, Gutenbergplatz 7\, 55116\, Mainz
STATUS:CONFIRMED
URL:https://kulvio.de/event/2287
END:VEVENT
END:VCALENDAR
