BEGIN:VCALENDAR
VERSION:2.0
PRODID:-//Kulvio Event Calendar//kulvio.de//
CALSCALE:GREGORIAN
METHOD:PUBLISH
BEGIN:VEVENT
SUMMARY:9. Sinfoniekonzert
DTSTART:20260530T180000Z
DTEND:20260530T195000Z
DTSTAMP:20260419T232547Z
UID:kulvio-event-2293@kulvio.de
CATEGORIES:Konzert,Show
CREATED:20260417T130816Z
DESCRIPTION:Das 9. Sinfoniekonzert des Philharmonischen Staatsorchesters M
 ainz findet im Hohen Dom zu Mainz statt und bietet eine besondere akustisc
 he Atmosphäre in einem der bedeutendsten romanischen Bauwerke Deutschland
 s. Das Konzertprogramm umfasst sinfonische Werke\, die den sakralen Raum m
 it orchestraler Klangfülle erfüllen. Der Dom am Marktplatz bietet als Sp
 ielstätte ein Klangerlebnis\, das sich von den regulären Konzerten im Gr
 oßen Haus deutlich unterscheidet. Die Veranstaltung beginnt um 20 Uhr und
  dauert etwa eine Stunde und fünfzig Minuten. Das Konzert richtet sich an
  alle Liebhaber sinfonischer Musik.
GEO:49.999182;8.273675
LAST-MODIFIED:20260417T130947Z
LOCATION:Hoher Dom zu Mainz\, Markt 10\, 55116\, Mainz
STATUS:CONFIRMED
URL:https://kulvio.de/event/2293
END:VEVENT
END:VCALENDAR
