BEGIN:VCALENDAR
VERSION:2.0
PRODID:-//Kulvio Event Calendar//kulvio.de//
CALSCALE:GREGORIAN
METHOD:PUBLISH
BEGIN:VEVENT
SUMMARY:The Frame (UA)
DTSTART:20260530T180000Z
DTEND:20260530T184500Z
DTSTAMP:20260419T232524Z
UID:kulvio-event-2295@kulvio.de
CATEGORIES:Tanz,Show
CREATED:20260417T130816Z
DESCRIPTION:The Frame ist eine Uraufführung der Tanzsparte tanzmainz am S
 taatstheater Mainz. Das Tanzstück wird in der Spielstätte U17 aufgeführ
 t und dauert etwa fünfundvierzig Minuten ohne Pause. Die Produktion gehö
 rt zum aktuellen Repertoire der Tanzcompagnie und zeigt zeitgenössischen 
 Tanz in einem intimen Rahmen. Das Publikum erlebt die Aufführung in unmit
 telbarer Nähe zu den Tänzerinnen und Tänzern der Compagnie. Die kompakt
 e Spielstätte U17 ermöglicht eine besondere Nähe zwischen Bühne und Zu
 schauerraum\, die das Tanzerlebnis intensiviert.
GEO:49.999468;8.271102
LAST-MODIFIED:20260417T130947Z
LOCATION:Staatstheater Mainz\, Gutenbergplatz 7\, 55116\, Mainz
STATUS:CONFIRMED
URL:https://kulvio.de/event/2295
END:VEVENT
END:VCALENDAR
