BEGIN:VCALENDAR
VERSION:2.0
PRODID:-//Kulvio Event Calendar//kulvio.de//
CALSCALE:GREGORIAN
METHOD:PUBLISH
BEGIN:VEVENT
SUMMARY:Ronja von Rönne: Alles Liebe
DTSTART:20260601T180000Z
DTEND:20260601T190000Z
DTSTAMP:20260419T233114Z
UID:kulvio-event-2303@kulvio.de
CATEGORIES:Lesung,Comedy,Show
CREATED:20260417T130816Z
DESCRIPTION:Die Autorin Ronja von Rönne liest in der Kakadu Bar des Staat
 stheaters Mainz aus ihrem Werk Alles Liebe. Bekannt für ihren scharfsinni
 gen und humorvollen Schreibstil hat sich von Rönne als eine der markantes
 ten Stimmen der jüngeren deutschen Literatur etabliert. Die Veranstaltung
  beginnt um 20 Uhr und verbindet literarische Lesung mit unterhaltsamen El
 ementen in der intimen Atmosphäre der Theaterbar. Der Abend richtet sich 
 an ein literaturinteressiertes Publikum und bietet Raum für Begegnungen m
 it zeitgenössischer Literatur in einem besonderen Rahmen.
GEO:49.999468;8.271102
LAST-MODIFIED:20260417T130947Z
LOCATION:Staatstheater Mainz\, Gutenbergplatz 7\, 55116\, Mainz
STATUS:CONFIRMED
URL:https://kulvio.de/event/2303
END:VEVENT
END:VCALENDAR
