BEGIN:VCALENDAR
VERSION:2.0
PRODID:-//Kulvio Event Calendar//kulvio.de//
CALSCALE:GREGORIAN
METHOD:PUBLISH
BEGIN:VEVENT
SUMMARY:Literarisches Quartett
DTSTART:20260602T180000Z
DTEND:20260602T190000Z
DTSTAMP:20260419T233113Z
UID:kulvio-event-2304@kulvio.de
CATEGORIES:Lesung,Vortrag
CREATED:20260417T130816Z
DESCRIPTION:Das Literarische Quartett am Staatstheater Mainz bringt vier K
 ritikerinnen und Kritiker zusammen\, die aktuelle Bücher vorstellen und l
 ebhaft diskutieren. Das Format lehnt sich an die bekannte Fernsehsendung a
 n und bietet dem Publikum Buchempfehlungen und kontroverse Debatten über 
 die wichtigsten Neuerscheinungen der Saison. Die Veranstaltung findet in d
 er Kakadu Bar statt und beginnt um 20 Uhr. Der Abend richtet sich an alle\
 , die sich für Literatur und lebendige Diskussionen in entspannter Baratm
 osphäre begeistern.
GEO:49.999468;8.271102
LAST-MODIFIED:20260417T130947Z
LOCATION:Staatstheater Mainz\, Gutenbergplatz 7\, 55116\, Mainz
STATUS:CONFIRMED
URL:https://kulvio.de/event/2304
END:VEVENT
END:VCALENDAR
