BEGIN:VCALENDAR
VERSION:2.0
PRODID:-//Kulvio Event Calendar//kulvio.de//
CALSCALE:GREGORIAN
METHOD:PUBLISH
BEGIN:VEVENT
SUMMARY:Der Diener zweier Herren
DTSTART:20260603T173000Z
DTEND:20260603T195000Z
DTSTAMP:20260419T233435Z
UID:kulvio-event-2305@kulvio.de
CATEGORIES:Theater,Comedy
CREATED:20260417T130816Z
DESCRIPTION:Carlo Goldonis Komödie Der Diener zweier Herren wird in einer
  Neufassung von Marc Becker unter dem Untertitel Piranhas in der Lagune im
  Innenhof des Landesmuseums Mainz aufgeführt. Der ewig hungrige Diener Tr
 uffaldino jongliert zwei Herren gleichzeitig und verwickelt sich dabei in 
 ein Chaos aus Verwechslungen und Lügen. Goldonis Klassiker der Commedia d
 ell'arte gehört seit dem 18. Jahrhundert zum festen Repertoire der Theate
 rgeschichte. Denis Larisch spielt Truffaldino in dieser Sommertheater-Prod
 uktion unter freiem Himmel. Die Aufführung dauert etwa zwei Stunden und z
 wanzig Minuten mit Pause und findet ab dem 29. Mai im Innenhof statt.
GEO:50.003723;8.268
LAST-MODIFIED:20260417T130947Z
LOCATION:Landesmuseum Mainz\, Große Bleiche 49-51\, 55116\, Mainz
STATUS:CONFIRMED
URL:https://kulvio.de/event/2305
END:VEVENT
END:VCALENDAR
