BEGIN:VCALENDAR
VERSION:2.0
PRODID:-//Kulvio Event Calendar//kulvio.de//
CALSCALE:GREGORIAN
METHOD:PUBLISH
BEGIN:VEVENT
SUMMARY:Breaking the Waves
DTSTART:20260616T173000Z
DTEND:20260616T183000Z
DTSTAMP:20260419T235656Z
UID:kulvio-event-2319@kulvio.de
CATEGORIES:Theater,Konzert
CREATED:20260417T130816Z
DESCRIPTION:Missy Mazzolis Oper Breaking the Waves basiert auf dem gleichn
 amigen Film von Lars von Trier und spielt in einer streng calvinistischen 
 Gemeinde in Schottland. Die junge Bess verliebt sich in den norwegischen 
 Ölarbeiter Jan\, der bei einem schweren Unfall auf der Bohrinsel gelähmt
  wird. Die Mainzer Neuproduktion wird von Dirk Kaftan dirigiert und von Kr
 ystian Lada inszeniert. Julietta Aleksanyan singt die Rolle der Bess\, Bre
 tt Carter ist als Jan zu erleben. Die Premiere findet am 26. April im Gro
 ßen Haus statt.
GEO:49.999468;8.271102
LAST-MODIFIED:20260417T130947Z
LOCATION:Staatstheater Mainz\, Gutenbergplatz 7\, 55116\, Mainz
STATUS:CONFIRMED
URL:https://kulvio.de/event/2319
END:VEVENT
END:VCALENDAR
