BEGIN:VCALENDAR
VERSION:2.0
PRODID:-//Kulvio Event Calendar//kulvio.de//
CALSCALE:GREGORIAN
METHOD:PUBLISH
BEGIN:VEVENT
SUMMARY:Sonntagsmatinee im Juni
DTSTART:20260607T093000Z
DTEND:20260607T103000Z
DTSTAMP:20260419T233242Z
UID:kulvio-event-2323@kulvio.de
CATEGORIES:Konzert,Show
CREATED:20260417T130816Z
DESCRIPTION:Die Sonntagsmatinee im Juni bietet Kammermusik im Foyer des Gr
 oßen Hauses am Staatstheater Mainz. Mitglieder des Philharmonischen Staat
 sorchesters spielen ausgewählte Werke in entspannter Sonntagsatmosphäre.
  Die Matinee beginnt um 11:30 Uhr und eignet sich für alle\, die den Sonn
 tag mit Musik beginnen möchten. Die Reihe der Sonntagsmatineen gibt dem P
 ublikum die Möglichkeit\, Orchestermitglieder in kleiner Besetzung und pe
 rsönlichem Rahmen zu erleben. Die Veranstaltung bietet einen stimmungsvol
 len Rahmen im Theaterfoyer und ist ein Highlight für Kammermusikfreunde.
GEO:49.999468;8.271102
LAST-MODIFIED:20260417T130947Z
LOCATION:Staatstheater Mainz\, Gutenbergplatz 7\, 55116\, Mainz
STATUS:CONFIRMED
URL:https://kulvio.de/event/2323
END:VEVENT
END:VCALENDAR
