BEGIN:VCALENDAR
VERSION:2.0
PRODID:-//Kulvio Event Calendar//kulvio.de//
CALSCALE:GREGORIAN
METHOD:PUBLISH
BEGIN:VEVENT
SUMMARY:Mainz liest ein Buch 2026
DTSTART:20260607T160000Z
DTEND:20260607T170000Z
DTSTAMP:20260419T233422Z
UID:kulvio-event-2324@kulvio.de
CATEGORIES:Lesung,Festival,Nachbarschaft
CREATED:20260417T130816Z
DESCRIPTION:Mainz liest ein Buch ist eine stadtweite Leseaktion\, bei der 
 sich ganz Mainz einem gemeinsamen Buch widmet. Buchhandlungen\, Schulen\, 
 Bibliotheken und kulturelle Einrichtungen in der ganzen Stadt beteiligen s
 ich an dem Leseprojekt. Die Veranstaltung am Staatstheater Mainz im Kleine
 n Haus bildet einen Höhepunkt des Programms und beginnt um 18 Uhr. Das Fo
 rmat verbindet Literatur mit Gemeinschaftserlebnis und lädt zum gemeinsam
 en Lesen und Diskutieren ein. Die Veranstaltung richtet sich an alle Alter
 sgruppen und Literaturfans.
GEO:49.999468;8.271102
LAST-MODIFIED:20260417T130947Z
LOCATION:Staatstheater Mainz\, Gutenbergplatz 7\, 55116\, Mainz
STATUS:CONFIRMED
URL:https://kulvio.de/event/2324
END:VEVENT
END:VCALENDAR
