BEGIN:VCALENDAR
VERSION:2.0
PRODID:-//Kulvio Event Calendar//kulvio.de//
CALSCALE:GREGORIAN
METHOD:PUBLISH
BEGIN:VEVENT
SUMMARY:10. Sinfoniekonzert
DTSTART:20260609T180000Z
DTEND:20260609T195000Z
DTSTAMP:20260419T235653Z
UID:kulvio-event-2325@kulvio.de
CATEGORIES:Konzert,Show
CREATED:20260417T130816Z
DESCRIPTION:Das 10. Sinfoniekonzert bildet den festlichen Abschluss der Ko
 nzertsaison des Philharmonischen Staatsorchesters Mainz in der Spielzeit. 
 Das Konzert findet im Großen Haus des Staatstheaters statt und beginnt um
  20 Uhr. Das Programm umfasst sinfonische Werke unter der Leitung des Gene
 ralmusikdirektors Hermann Bäumer. Als letztes Sinfoniekonzert der Saison 
 bietet der Abend einen besonderen Rahmen und bildet den Höhepunkt des Kon
 zertzyklus. Die Veranstaltung dauert etwa eine Stunde und fünfzig Minuten
  und richtet sich an Konzertliebhaber und Stammbesucher der Sinfoniekonzer
 treihe.
GEO:49.999468;8.271102
LAST-MODIFIED:20260417T130947Z
LOCATION:Staatstheater Mainz\, Gutenbergplatz 7\, 55116\, Mainz
STATUS:CONFIRMED
URL:https://kulvio.de/event/2325
END:VEVENT
END:VCALENDAR
